BEGIN:VCALENDAR
VERSION:2.0
PRODID:-//Prisma-RT - ECPv6.15.20//NONSGML v1.0//EN
CALSCALE:GREGORIAN
METHOD:PUBLISH
X-ORIGINAL-URL:https://www.prisma-rt.nl
X-WR-CALDESC:Evenementen voor Prisma-RT
REFRESH-INTERVAL;VALUE=DURATION:PT1H
X-Robots-Tag:noindex
X-PUBLISHED-TTL:PT1H
BEGIN:VTIMEZONE
TZID:Europe/Paris
BEGIN:DAYLIGHT
TZOFFSETFROM:+0100
TZOFFSETTO:+0200
TZNAME:CEST
DTSTART:20150329T010000
END:DAYLIGHT
BEGIN:STANDARD
TZOFFSETFROM:+0200
TZOFFSETTO:+0100
TZNAME:CET
DTSTART:20151025T010000
END:STANDARD
BEGIN:DAYLIGHT
TZOFFSETFROM:+0100
TZOFFSETTO:+0200
TZNAME:CEST
DTSTART:20160327T010000
END:DAYLIGHT
BEGIN:STANDARD
TZOFFSETFROM:+0200
TZOFFSETTO:+0100
TZNAME:CET
DTSTART:20161030T010000
END:STANDARD
BEGIN:DAYLIGHT
TZOFFSETFROM:+0100
TZOFFSETTO:+0200
TZNAME:CEST
DTSTART:20170326T010000
END:DAYLIGHT
BEGIN:STANDARD
TZOFFSETFROM:+0200
TZOFFSETTO:+0100
TZNAME:CET
DTSTART:20171029T010000
END:STANDARD
BEGIN:DAYLIGHT
TZOFFSETFROM:+0100
TZOFFSETTO:+0200
TZNAME:CEST
DTSTART:20180325T010000
END:DAYLIGHT
BEGIN:STANDARD
TZOFFSETFROM:+0200
TZOFFSETTO:+0100
TZNAME:CET
DTSTART:20181028T010000
END:STANDARD
BEGIN:DAYLIGHT
TZOFFSETFROM:+0100
TZOFFSETTO:+0200
TZNAME:CEST
DTSTART:20190331T010000
END:DAYLIGHT
BEGIN:STANDARD
TZOFFSETFROM:+0200
TZOFFSETTO:+0100
TZNAME:CET
DTSTART:20191027T010000
END:STANDARD
END:VTIMEZONE
BEGIN:VEVENT
DTSTART;TZID=Europe/Paris:20180320T133000
DTEND;TZID=Europe/Paris:20180320T160000
DTSTAMP:20260423T204658
CREATED:20170925T143746Z
LAST-MODIFIED:20171113T105110Z
UID:3010-1521552600-1521561600@www.prisma-rt.nl
SUMMARY:Ledenvergadering 2018
DESCRIPTION:
URL:https://www.prisma-rt.nl/event/ledenvergadering-2018/
LOCATION:Radiotherapie UMCUtrecht
END:VEVENT
BEGIN:VEVENT
DTSTART;TZID=Europe/Paris:20180320T100000
DTEND;TZID=Europe/Paris:20180320T123000
DTSTAMP:20260423T204658
CREATED:20171113T105259Z
LAST-MODIFIED:20171113T105259Z
UID:3291-1521540000-1521549000@www.prisma-rt.nl
SUMMARY:Expertteam vergadering
DESCRIPTION:
URL:https://www.prisma-rt.nl/event/expertteam-vergadering/
LOCATION:Radiotherapie UMCUtrecht
END:VEVENT
BEGIN:VEVENT
DTSTART;TZID=Europe/Paris:20180123T100000
DTEND;TZID=Europe/Paris:20180123T160000
DTSTAMP:20260423T204658
CREATED:20171113T105601Z
LAST-MODIFIED:20171113T105601Z
UID:3294-1516701600-1516723200@www.prisma-rt.nl
SUMMARY:Expertteam vergadering
DESCRIPTION:
URL:https://www.prisma-rt.nl/event/expertteam-vergadering-2/
LOCATION:Verbeeten Instituut Den Bosch
END:VEVENT
BEGIN:VEVENT
DTSTART;TZID=Europe/Paris:20171130T123000
DTEND;TZID=Europe/Paris:20171130T123000
DTSTAMP:20260423T204658
CREATED:20170925T145244Z
LAST-MODIFIED:20170925T145253Z
UID:3023-1512045000-1512045000@www.prisma-rt.nl
SUMMARY:TPSC Gebruikersmiddag 2017
DESCRIPTION:
URL:https://www.prisma-rt.nl/event/tpsc-gebruikersmiddag/
LOCATION:Mereveld\, Utrecht\, Mereveldseweg 9\, Utrecht
END:VEVENT
BEGIN:VEVENT
DTSTART;TZID=Europe/Paris:20171116T100000
DTEND;TZID=Europe/Paris:20171116T160000
DTSTAMP:20260423T204658
CREATED:20161012T173118Z
LAST-MODIFIED:20170816T100153Z
UID:2123-1510826400-1510848000@www.prisma-rt.nl
SUMMARY:Prisma-RT scholingsdag
DESCRIPTION:Meer informatie?: klik hier. \nProgramma en inschrijven: ga naar website\, Vereniging / scholingsdag / Programma en Inschrijven
URL:https://www.prisma-rt.nl/event/prisma-rt-scholingsdag/
LOCATION:Radiotherapie UMCUtrecht\, Collegezaal Q 01.226\, Utrecht
END:VEVENT
BEGIN:VEVENT
DTSTART;TZID=Europe/Paris:20170928T100000
DTEND;TZID=Europe/Paris:20170928T100000
DTSTAMP:20260423T204658
CREATED:20170411T203323Z
LAST-MODIFIED:20170816T095214Z
UID:2559-1506592800-1506592800@www.prisma-rt.nl
SUMMARY:Symposium "Incidenten in de Patientenzorg"
DESCRIPTION:Meer informatie?: klik op navolgende.  \n170411 AMC congres
URL:https://www.prisma-rt.nl/event/symposium-incidenten-in-de-patientenzorg/
END:VEVENT
BEGIN:VEVENT
DTSTART;TZID=Europe/Paris:20170921T103000
DTEND;TZID=Europe/Paris:20170921T160000
DTSTAMP:20260423T204658
CREATED:20161012T173003Z
LAST-MODIFIED:20161012T173003Z
UID:2120-1505989800-1506009600@www.prisma-rt.nl
SUMMARY:Expertteam/bestuursoverleg
DESCRIPTION:
URL:https://www.prisma-rt.nl/event/expertteambestuursoverleg-9/
LOCATION:Radiotherapie Catharina ziekenhuis Eindhoven\, Michelangelolaan 2\, Eindhoven
END:VEVENT
BEGIN:VEVENT
DTSTART;VALUE=DATE:20170821
DTEND;VALUE=DATE:20170825
DTSTAMP:20260423T204658
CREATED:20170209T192824Z
LAST-MODIFIED:20170411T203929Z
UID:2419-1503273600-1503619199@www.prisma-rt.nl
SUMMARY:Radiation Oncology Safety Course
DESCRIPTION:Discipline of Radiation Therapy\nSchool of Medicine\nUniversity of Dublin\, Trinity College \nA four-day theoretical and practical course facilitating participants to identify factors contributing to near incidents and incidents\, the reporting\, analysis and management of incidents and reducing incident occurrence \nParticipants: Health Professionals with an interest or involvement in risk management in oncology\nCourse Dates: 21st – 24th August 2017\nCourse Venue: Discipline of Radiation Therapy\, School of Medicine\, Trinity Centre for Health Sciences\, St. James’ Hospital\, Dublin 8\, Ireland \nAims of the Course: \nTo explore the occurrence of incidents and near incidents in radiation oncology\, methods of reporting\, analysis and management and how incidents can be reduced in the future.\nTo heighten awareness of the occurrence of incidents and near incidents in radiotherapy\nTo achieve greater accuracy in radiotherapy through incident prevention\nTo encourage a culture of openness in relation to incidents \nOBJECTIVES:\nTo give participants the tools and understanding of how to minimise the risk of incidents occurring\nTo ensure best practices in risk management aiming to enhance safety in radiotherapy\nTo enable international collaboration in incident reporting and encourage a culture of reporting incidents \nCourse Fees: Includes course notes\, lunches\, tea and coffee and course dinner: \nEarly registration (before 15th June 2017) € 550\nLate registration € 650\nTwo or more participants from the same centre discount €50 for second or subsequent participants \nFor further information contact:\nAdjunct Professor Mary Coffey\, Discipline of Radiation Therapy\, School of Medicine\, Trinity Centre for Health Sciences\, St. James’ Hospital\, Dublin 8\, Ireland.\nTel: 00 353 868599543 Fax: 00 353 1 8963246\nEmail: mcoffey@tcd.ie \nCourse Lecturers \nTommy Knöös\, B.SC.\, M.SC.\, PH.D.\nAssociate Prof and Head of Radiation Physics\, Skåne University Hospital and Lund University\, Sweden \nMary Coffey\nDiscipline of Radiation Therapy\, Trinity Centre for Health Science\, St. James’ Hospital\, Dublin 8\, Ireland \nPetra Reijnders-Thijssen\nManager\, Patient Safety\nMAASTRO Clinic\, Maastricht\, The Netherlands \nGeoff Delaney\, MBBS\, MD\, PhD\, FRANZCR\nDirector of Cancer Services\, South Western Sydney Local Health District\, Australia. \nTodd Pawlicki\,\nProfessor and Vice-Chair of Medical Physics\nDivision Director\nDepartment of Radiation Medicine and Applied Sciences\nUniversity of California\, San Diego \nRegistration Form\nWorking Towards Safer Radiotherapy \n21st – 24th August\, 2017 \nName:\nAddress:\nTel:\nEmail:\nInstitution/Company: \nProfession/Discipline: \nPayment could be made by Cheque or Bank transfer\nCheque Payable to ‘Trinity College Dublin No. 1 Account’\nElectronic bank transfer\nBank Name: Bank of Ireland\nBank Address: College Green\, Dublin 2\, Ireland\nAccount Name: TCD No. 6 Account\nAccount No.: 30432592\nSort Code: 90-00-17\nIBAN Number: IE86 BOFI 9000 1730 4325 92\nBIC/Swift Code: BOFIIE2D\nRadiation Therapy Code No.: 10-1727-9030913-3500-12119 (Please ensure that the code is written on the bank transfer form as well as the participant name. The bank transfer receipt should be e-mailed to Daléne Dougall at dougallm@tcd.ie )\nReturn form to: Adjunct Professor Mary Coffey\,\nDiscipline of Radiation Therapy\, School of Medicine\nTrinity Centre for Health Sciences\,\nSt. James’ Hospital\, Dublin 8\, Ireland.\nBy fax to: 00 353 1 8963246\nBy email to mcoffey@tcd.ie
URL:https://www.prisma-rt.nl/event/radiation-oncology-safety-course/
END:VEVENT
BEGIN:VEVENT
DTSTART;TZID=Europe/Paris:20170704T103000
DTEND;TZID=Europe/Paris:20170704T160000
DTSTAMP:20260423T204658
CREATED:20161012T172755Z
LAST-MODIFIED:20161012T172852Z
UID:2117-1499164200-1499184000@www.prisma-rt.nl
SUMMARY:Expertteam/bestuursoverleg
DESCRIPTION:
URL:https://www.prisma-rt.nl/event/expertteambestuursoverleg-8/
LOCATION:Radiotherapie UMCUtrecht\, Collegezaal Q 01.226\, Utrecht
END:VEVENT
BEGIN:VEVENT
DTSTART;TZID=Europe/Paris:20170411T103000
DTEND;TZID=Europe/Paris:20170411T160000
DTSTAMP:20260423T204658
CREATED:20161012T172551Z
LAST-MODIFIED:20161012T172551Z
UID:2114-1491906600-1491926400@www.prisma-rt.nl
SUMMARY:Expertteam/bestuursoverleg
DESCRIPTION:
URL:https://www.prisma-rt.nl/event/expertteambestuursoverleg-7/
LOCATION:Radiotherapie Catharina ziekenhuis Eindhoven\, Michelangelolaan 2\, Eindhoven
END:VEVENT
BEGIN:VEVENT
DTSTART;TZID=Europe/Paris:20170316T133000
DTEND;TZID=Europe/Paris:20170316T160000
DTSTAMP:20260423T204658
CREATED:20161012T172427Z
LAST-MODIFIED:20161012T172427Z
UID:2111-1489671000-1489680000@www.prisma-rt.nl
SUMMARY:Ledenvergadering
DESCRIPTION:Agenda wordt 6 weken van te voren gestuurd.
URL:https://www.prisma-rt.nl/event/ledenvergadering/
LOCATION:Radiotherapie UMCUtrecht\, Collegezaal Q 01.226\, Utrecht
END:VEVENT
BEGIN:VEVENT
DTSTART;TZID=Europe/Paris:20170316T103000
DTEND;TZID=Europe/Paris:20170316T123000
DTSTAMP:20260423T204658
CREATED:20161012T172305Z
LAST-MODIFIED:20161012T172305Z
UID:2108-1489660200-1489667400@www.prisma-rt.nl
SUMMARY:Experteam/bestuursoverleg
DESCRIPTION:
URL:https://www.prisma-rt.nl/event/experteambestuursoverleg/
LOCATION:Radiotherapie UMCUtrecht\, Collegezaal Q 01.226\, Utrecht
END:VEVENT
BEGIN:VEVENT
DTSTART;TZID=Europe/Paris:20170119T103000
DTEND;TZID=Europe/Paris:20170119T160000
DTSTAMP:20260423T204658
CREATED:20161012T172118Z
LAST-MODIFIED:20161012T172118Z
UID:2105-1484821800-1484841600@www.prisma-rt.nl
SUMMARY:Expertteam/bestuursoverleg
DESCRIPTION:
URL:https://www.prisma-rt.nl/event/expertteambestuursoverleg-6/
LOCATION:Radiotherapie Catharina ziekenhuis Eindhoven\, Michelangelolaan 2\, Eindhoven
END:VEVENT
BEGIN:VEVENT
DTSTART;TZID=Europe/Paris:20161130T133000
DTEND;TZID=Europe/Paris:20161130T160000
DTSTAMP:20260423T204658
CREATED:20161012T162317Z
LAST-MODIFIED:20161012T173901Z
UID:2091-1480512600-1480521600@www.prisma-rt.nl
SUMMARY:Overleg bestuur - TPSC
DESCRIPTION:Jaarlijks overleg.\nOnderwerp van bespreking is in ieder geval een nieuw contract 2017 voor IMS en benchmark
URL:https://www.prisma-rt.nl/event/overleg-bestuur-tpsc/
LOCATION:Verbeeten Instituut\, Deutersestraat 2b\, Den Bosch\, 5223GV\, Nederland
END:VEVENT
BEGIN:VEVENT
DTSTART;TZID=Europe/Paris:20161110T100000
DTEND;TZID=Europe/Paris:20161110T160000
DTSTAMP:20260423T204658
CREATED:20151219T135533Z
LAST-MODIFIED:20161012T170842Z
UID:87-1478772000-1478793600@www.prisma-rt.nl
SUMMARY:PRISMA-RT scholing
DESCRIPTION:Opgeven voor deelname via je eigen leidinggevende.
URL:https://www.prisma-rt.nl/event/prisma-rt-scholing/
LOCATION:Radiotherapie UMCUtrecht\, Collegezaal Q 01.226\, Utrecht
END:VEVENT
BEGIN:VEVENT
DTSTART;TZID=Europe/Paris:20160913T100000
DTEND;TZID=Europe/Paris:20160913T150000
DTSTAMP:20260423T204658
CREATED:20151219T135447Z
LAST-MODIFIED:20160102T171348Z
UID:86-1473760800-1473778800@www.prisma-rt.nl
SUMMARY:Expertteam/bestuursoverleg
DESCRIPTION:
URL:https://www.prisma-rt.nl/event/expertteambestuursoverleg-5/
LOCATION:Radiotherapie UMCUtrecht\, Collegezaal Q 01.226\, Utrecht
END:VEVENT
BEGIN:VEVENT
DTSTART;TZID=Europe/Paris:20160705T080000
DTEND;TZID=Europe/Paris:20160705T150000
DTSTAMP:20260423T204658
CREATED:20151219T135145Z
LAST-MODIFIED:20160102T171258Z
UID:83-1467705600-1467730800@www.prisma-rt.nl
SUMMARY:Expertteam/bestuursoverleg
DESCRIPTION:
URL:https://www.prisma-rt.nl/event/expertteambestuursoverleg-3/
LOCATION:Radiotherapie Catharina ziekenhuis Eindhoven\, Michelangelolaan 2\, Eindhoven
END:VEVENT
BEGIN:VEVENT
DTSTART;TZID=Europe/Paris:20160414T100000
DTEND;TZID=Europe/Paris:20160414T150000
DTSTAMP:20260423T204658
CREATED:20151219T135115Z
LAST-MODIFIED:20160102T171201Z
UID:81-1460628000-1460646000@www.prisma-rt.nl
SUMMARY:Expertteam/bestuursoverleg
DESCRIPTION:
URL:https://www.prisma-rt.nl/event/expertteambestuursoverleg-2/
LOCATION:Radiotherapie UMCUtrecht\, Collegezaal Q 01.226\, Utrecht
END:VEVENT
BEGIN:VEVENT
DTSTART;TZID=Europe/Paris:20160317T133000
DTEND;TZID=Europe/Paris:20160317T160000
DTSTAMP:20260423T204658
CREATED:20151219T135215Z
LAST-MODIFIED:20160102T165211Z
UID:84-1458221400-1458230400@www.prisma-rt.nl
SUMMARY:Ledenvergadering
DESCRIPTION:
URL:https://www.prisma-rt.nl/event/expertteambestuursoverleg-4/
LOCATION:Radiotherapie UMCUtrecht\, Collegezaal Q 01.226\, Utrecht
END:VEVENT
BEGIN:VEVENT
DTSTART;VALUE=DATE:20160126
DTEND;VALUE=DATE:20160127
DTSTAMP:20260423T204658
CREATED:20151219T134205Z
LAST-MODIFIED:20160102T163258Z
UID:77-1453766400-1453852799@www.prisma-rt.nl
SUMMARY:Expertteam/bestuursoverleg + demo TPSC
DESCRIPTION:
URL:https://www.prisma-rt.nl/event/expertteambestuursoverleg/
LOCATION:Radiotherapie UMCUtrecht\, Collegezaal Q 01.226\, Utrecht
END:VEVENT
END:VCALENDAR