BEGIN:VCALENDAR
VERSION:2.0
PRODID:-//Prisma-RT - ECPv6.15.20//NONSGML v1.0//EN
CALSCALE:GREGORIAN
METHOD:PUBLISH
X-ORIGINAL-URL:https://www.prisma-rt.nl
X-WR-CALDESC:Evenementen voor Prisma-RT
REFRESH-INTERVAL;VALUE=DURATION:PT1H
X-Robots-Tag:noindex
X-PUBLISHED-TTL:PT1H
BEGIN:VTIMEZONE
TZID:Europe/Paris
BEGIN:DAYLIGHT
TZOFFSETFROM:+0100
TZOFFSETTO:+0200
TZNAME:CEST
DTSTART:20180325T010000
END:DAYLIGHT
BEGIN:STANDARD
TZOFFSETFROM:+0200
TZOFFSETTO:+0100
TZNAME:CET
DTSTART:20181028T010000
END:STANDARD
BEGIN:DAYLIGHT
TZOFFSETFROM:+0100
TZOFFSETTO:+0200
TZNAME:CEST
DTSTART:20190331T010000
END:DAYLIGHT
BEGIN:STANDARD
TZOFFSETFROM:+0200
TZOFFSETTO:+0100
TZNAME:CET
DTSTART:20191027T010000
END:STANDARD
BEGIN:DAYLIGHT
TZOFFSETFROM:+0100
TZOFFSETTO:+0200
TZNAME:CEST
DTSTART:20200329T010000
END:DAYLIGHT
BEGIN:STANDARD
TZOFFSETFROM:+0200
TZOFFSETTO:+0100
TZNAME:CET
DTSTART:20201025T010000
END:STANDARD
BEGIN:DAYLIGHT
TZOFFSETFROM:+0100
TZOFFSETTO:+0200
TZNAME:CEST
DTSTART:20210328T010000
END:DAYLIGHT
BEGIN:STANDARD
TZOFFSETFROM:+0200
TZOFFSETTO:+0100
TZNAME:CET
DTSTART:20211031T010000
END:STANDARD
BEGIN:DAYLIGHT
TZOFFSETFROM:+0100
TZOFFSETTO:+0200
TZNAME:CEST
DTSTART:20220327T010000
END:DAYLIGHT
BEGIN:STANDARD
TZOFFSETFROM:+0200
TZOFFSETTO:+0100
TZNAME:CET
DTSTART:20221030T010000
END:STANDARD
BEGIN:DAYLIGHT
TZOFFSETFROM:+0100
TZOFFSETTO:+0200
TZNAME:CEST
DTSTART:20230326T010000
END:DAYLIGHT
BEGIN:STANDARD
TZOFFSETFROM:+0200
TZOFFSETTO:+0100
TZNAME:CET
DTSTART:20231029T010000
END:STANDARD
BEGIN:DAYLIGHT
TZOFFSETFROM:+0100
TZOFFSETTO:+0200
TZNAME:CEST
DTSTART:20240331T010000
END:DAYLIGHT
BEGIN:STANDARD
TZOFFSETFROM:+0200
TZOFFSETTO:+0100
TZNAME:CET
DTSTART:20241027T010000
END:STANDARD
BEGIN:DAYLIGHT
TZOFFSETFROM:+0100
TZOFFSETTO:+0200
TZNAME:CEST
DTSTART:20250330T010000
END:DAYLIGHT
BEGIN:STANDARD
TZOFFSETFROM:+0200
TZOFFSETTO:+0100
TZNAME:CET
DTSTART:20251026T010000
END:STANDARD
END:VTIMEZONE
BEGIN:VEVENT
DTSTART;TZID=Europe/Paris:20241114T100000
DTEND;TZID=Europe/Paris:20241114T153000
DTSTAMP:20260423T121207
CREATED:20240614T060614Z
LAST-MODIFIED:20240614T060614Z
UID:5925-1731578400-1731598200@www.prisma-rt.nl
SUMMARY:Scholingsdag 2024
DESCRIPTION:
URL:https://www.prisma-rt.nl/event/scholingsdag-2024/
LOCATION:Haaglanden Medisch Centrum\, locatie Antoniushove te Leidschendam\, Burg. Banninglaan 1\, Den Haag\, 2262BA\, Nederland
CATEGORIES:Scholingsdag
END:VEVENT
BEGIN:VEVENT
DTSTART;TZID=Europe/Paris:20240917T103000
DTEND;TZID=Europe/Paris:20240917T133000
DTSTAMP:20260423T121207
CREATED:20240614T061939Z
LAST-MODIFIED:20240614T061939Z
UID:5934-1726569000-1726579800@www.prisma-rt.nl
SUMMARY:Expertteam overleg (online)
DESCRIPTION:
URL:https://www.prisma-rt.nl/event/expertteam-overleg-online-3/
END:VEVENT
BEGIN:VEVENT
DTSTART;TZID=Europe/Paris:20240704T103000
DTEND;TZID=Europe/Paris:20240704T133000
DTSTAMP:20260423T121207
CREATED:20240614T055550Z
LAST-MODIFIED:20240614T055550Z
UID:5922-1720089000-1720099800@www.prisma-rt.nl
SUMMARY:Expertteam overleg (online)
DESCRIPTION:
URL:https://www.prisma-rt.nl/event/expertteam-overleg-online-2/
CATEGORIES:Expertteam
END:VEVENT
BEGIN:VEVENT
DTSTART;TZID=Europe/Paris:20240523T090000
DTEND;TZID=Europe/Paris:20240523T150000
DTSTAMP:20260423T121207
CREATED:20240614T055409Z
LAST-MODIFIED:20240614T061607Z
UID:5919-1716454800-1716476400@www.prisma-rt.nl
SUMMARY:Expertteam overleg (fysiek)
DESCRIPTION:
URL:https://www.prisma-rt.nl/event/expertteam-overleg-fysiekteams/
LOCATION:Verbeeten Instituut\, Deutersestraat 2b\, Den Bosch\, 5223GV\, Nederland
CATEGORIES:Expertteam
END:VEVENT
BEGIN:VEVENT
DTSTART;TZID=Europe/Paris:20240321T083000
DTEND;TZID=Europe/Paris:20240321T100000
DTSTAMP:20260423T121207
CREATED:20240614T061832Z
LAST-MODIFIED:20240614T061832Z
UID:5931-1711009800-1711015200@www.prisma-rt.nl
SUMMARY:Expertteam extra tussenoverleg (online)
DESCRIPTION:
URL:https://www.prisma-rt.nl/event/expertteam-extra-tussenoverleg-online/
CATEGORIES:Expertteam
END:VEVENT
BEGIN:VEVENT
DTSTART;TZID=Europe/Paris:20240201T103000
DTEND;TZID=Europe/Paris:20240201T130000
DTSTAMP:20260423T121207
CREATED:20240614T055043Z
LAST-MODIFIED:20240614T055043Z
UID:5916-1706783400-1706792400@www.prisma-rt.nl
SUMMARY:Expertteam overleg (online)
DESCRIPTION:
URL:https://www.prisma-rt.nl/event/expertteam-overleg-online/
CATEGORIES:Expertteam
END:VEVENT
BEGIN:VEVENT
DTSTART;TZID=Europe/Paris:20231026T093000
DTEND;TZID=Europe/Paris:20231026T163000
DTSTAMP:20260423T121207
CREATED:20230110T134724Z
LAST-MODIFIED:20230110T134724Z
UID:5676-1698312600-1698337800@www.prisma-rt.nl
SUMMARY:Scholingsdag Prisma-RT
DESCRIPTION:
URL:https://www.prisma-rt.nl/event/scholingsdag-prisma-rt-2/
END:VEVENT
BEGIN:VEVENT
DTSTART;TZID=Europe/Paris:20230914T100000
DTEND;TZID=Europe/Paris:20230914T140000
DTSTAMP:20260423T121207
CREATED:20230110T134446Z
LAST-MODIFIED:20230110T134446Z
UID:5670-1694685600-1694700000@www.prisma-rt.nl
SUMMARY:Expertteamoverleg
DESCRIPTION:
URL:https://www.prisma-rt.nl/event/expertteamoverleg-9/
LOCATION:Online
END:VEVENT
BEGIN:VEVENT
DTSTART;TZID=Europe/Paris:20230914T093000
DTEND;TZID=Europe/Paris:20230914T100000
DTSTAMP:20260423T121207
CREATED:20230110T134848Z
LAST-MODIFIED:20230110T134848Z
UID:5679-1694683800-1694685600@www.prisma-rt.nl
SUMMARY:Bestuursoverleg
DESCRIPTION:
URL:https://www.prisma-rt.nl/event/bestuursoverleg-4/
END:VEVENT
BEGIN:VEVENT
DTSTART;TZID=Europe/Paris:20230711T100000
DTEND;TZID=Europe/Paris:20230711T140000
DTSTAMP:20260423T121207
CREATED:20230110T134151Z
LAST-MODIFIED:20230110T134151Z
UID:5664-1689069600-1689084000@www.prisma-rt.nl
SUMMARY:Expertteamoverleg
DESCRIPTION:
URL:https://www.prisma-rt.nl/event/expertteamoverleg-8/
LOCATION:Online
END:VEVENT
BEGIN:VEVENT
DTSTART;TZID=Europe/Paris:20230711T093000
DTEND;TZID=Europe/Paris:20230711T100000
DTSTAMP:20260423T121207
CREATED:20230110T134253Z
LAST-MODIFIED:20230110T134253Z
UID:5667-1689067800-1689069600@www.prisma-rt.nl
SUMMARY:Bestuursoverleg
DESCRIPTION:
URL:https://www.prisma-rt.nl/event/bestuursoverleg-2/
END:VEVENT
BEGIN:VEVENT
DTSTART;TZID=Europe/Paris:20230418T140000
DTEND;TZID=Europe/Paris:20230418T160000
DTSTAMP:20260423T121207
CREATED:20230110T133956Z
LAST-MODIFIED:20230110T133956Z
UID:5661-1681826400-1681833600@www.prisma-rt.nl
SUMMARY:Algemene Ledenvergadering
DESCRIPTION:
URL:https://www.prisma-rt.nl/event/algemene-ledenvergadering/
LOCATION:Online
END:VEVENT
BEGIN:VEVENT
DTSTART;TZID=Europe/Paris:20230418T100000
DTEND;TZID=Europe/Paris:20230418T140000
DTSTAMP:20260423T121207
CREATED:20230110T133849Z
LAST-MODIFIED:20230110T133849Z
UID:5658-1681812000-1681826400@www.prisma-rt.nl
SUMMARY:Expertteamoverleg
DESCRIPTION:
URL:https://www.prisma-rt.nl/event/expertteamoverleg-7/
LOCATION:Verbeeten Instituut Den Bosch
END:VEVENT
BEGIN:VEVENT
DTSTART;TZID=Europe/Paris:20230110T100000
DTEND;TZID=Europe/Paris:20230110T140000
DTSTAMP:20260423T121207
CREATED:20230110T133611Z
LAST-MODIFIED:20230110T133611Z
UID:5651-1673344800-1673359200@www.prisma-rt.nl
SUMMARY:Expertteam overleg
DESCRIPTION:
URL:https://www.prisma-rt.nl/event/expertteam-overleg/
LOCATION:Online
END:VEVENT
BEGIN:VEVENT
DTSTART;TZID=Europe/Paris:20230110T093000
DTEND;TZID=Europe/Paris:20230110T100000
DTSTAMP:20260423T121207
CREATED:20230110T134530Z
LAST-MODIFIED:20230110T134530Z
UID:5673-1673343000-1673344800@www.prisma-rt.nl
SUMMARY:Bestuursoverleg
DESCRIPTION:
URL:https://www.prisma-rt.nl/event/bestuursoverleg-3/
END:VEVENT
BEGIN:VEVENT
DTSTART;TZID=Europe/Paris:20230110T093000
DTEND;TZID=Europe/Paris:20230110T100000
DTSTAMP:20260423T121207
CREATED:20230110T133719Z
LAST-MODIFIED:20230110T133719Z
UID:5655-1673343000-1673344800@www.prisma-rt.nl
SUMMARY:Bestuursoverleg
DESCRIPTION:
URL:https://www.prisma-rt.nl/event/bestuursoverleg/
END:VEVENT
BEGIN:VEVENT
DTSTART;TZID=Europe/Paris:20210907T080000
DTEND;TZID=Europe/Paris:20210907T170000
DTSTAMP:20260423T121207
CREATED:20210706T082513Z
LAST-MODIFIED:20210706T082513Z
UID:5456-1631001600-1631034000@www.prisma-rt.nl
SUMMARY:Expertteamoverleg
DESCRIPTION:
URL:https://www.prisma-rt.nl/event/expertteamoverleg-6/
END:VEVENT
BEGIN:VEVENT
DTSTART;TZID=Europe/Paris:20210706T080000
DTEND;TZID=Europe/Paris:20210706T170000
DTSTAMP:20260423T121207
CREATED:20210706T082447Z
LAST-MODIFIED:20210706T082447Z
UID:5453-1625558400-1625590800@www.prisma-rt.nl
SUMMARY:Expertteamoverleg
DESCRIPTION:
URL:https://www.prisma-rt.nl/event/expertteamoverleg-5/
END:VEVENT
BEGIN:VEVENT
DTSTART;TZID=Europe/Paris:20210415T080000
DTEND;TZID=Europe/Paris:20210415T170000
DTSTAMP:20260423T121207
CREATED:20210706T082421Z
LAST-MODIFIED:20210706T082421Z
UID:5450-1618473600-1618506000@www.prisma-rt.nl
SUMMARY:Expertteamoverleg & Algemene ledenvergadering
DESCRIPTION:
URL:https://www.prisma-rt.nl/event/expertteamoverleg-algemene-ledenvergadering/
END:VEVENT
BEGIN:VEVENT
DTSTART;TZID=Europe/Paris:20210119T080000
DTEND;TZID=Europe/Paris:20210119T170000
DTSTAMP:20260423T121207
CREATED:20210706T082339Z
LAST-MODIFIED:20210706T082339Z
UID:5447-1611043200-1611075600@www.prisma-rt.nl
SUMMARY:Expertteamoverleg
DESCRIPTION:
URL:https://www.prisma-rt.nl/event/expertteamoverleg-4/
END:VEVENT
BEGIN:VEVENT
DTSTART;TZID=Europe/Paris:20201105T080000
DTEND;TZID=Europe/Paris:20201105T170000
DTSTAMP:20260423T121207
CREATED:20210706T082259Z
LAST-MODIFIED:20210706T082259Z
UID:5444-1604563200-1604595600@www.prisma-rt.nl
SUMMARY:Expertteamoverleg
DESCRIPTION:
URL:https://www.prisma-rt.nl/event/expertteamoverleg-3/
END:VEVENT
BEGIN:VEVENT
DTSTART;TZID=Europe/Paris:20200915T103000
DTEND;TZID=Europe/Paris:20200915T150000
DTSTAMP:20260423T121207
CREATED:20191009T062417Z
LAST-MODIFIED:20191011T080243Z
UID:5012-1600165800-1600182000@www.prisma-rt.nl
SUMMARY:Expertteamoverleg
DESCRIPTION:
URL:https://www.prisma-rt.nl/event/expertteamoverleg-2/
LOCATION:Verbeeten Instituut\, Deutersestraat 2b\, Den Bosch\, 5223GV\, Nederland
CATEGORIES:Expertteam
END:VEVENT
BEGIN:VEVENT
DTSTART;TZID=Europe/Paris:20200707T103000
DTEND;TZID=Europe/Paris:20200707T150000
DTSTAMP:20260423T121207
CREATED:20191009T062214Z
LAST-MODIFIED:20191011T080221Z
UID:5009-1594117800-1594134000@www.prisma-rt.nl
SUMMARY:Expertteamoverleg
DESCRIPTION:
URL:https://www.prisma-rt.nl/event/expertteamoverleg/
LOCATION:Verbeeten Instituut\, Deutersestraat 2b\, Den Bosch\, 5223GV\, Nederland
CATEGORIES:Expertteam
END:VEVENT
BEGIN:VEVENT
DTSTART;TZID=Europe/Paris:20200421T103000
DTEND;TZID=Europe/Paris:20200421T150000
DTSTAMP:20260423T121207
CREATED:20191009T061546Z
LAST-MODIFIED:20191011T080159Z
UID:5002-1587465000-1587481200@www.prisma-rt.nl
SUMMARY:Expertteamvergadering
DESCRIPTION:
URL:https://www.prisma-rt.nl/event/expertteamvergadering-7/
LOCATION:HollandPTC\, Huismansingel 4\, Delft\, 2629JH\, Nederland
CATEGORIES:Expertteam
END:VEVENT
BEGIN:VEVENT
DTSTART;TZID=Europe/Paris:20200107T103000
DTEND;TZID=Europe/Paris:20200107T150000
DTSTAMP:20260423T121207
CREATED:20191009T061251Z
LAST-MODIFIED:20191011T075928Z
UID:4998-1578393000-1578409200@www.prisma-rt.nl
SUMMARY:Expertteamvergadering
DESCRIPTION:
URL:https://www.prisma-rt.nl/event/expertteamvergadering-6/
LOCATION:HollandPTC\, Huismansingel 4\, Delft\, 2629JH\, Nederland
CATEGORIES:Expertteam
END:VEVENT
BEGIN:VEVENT
DTSTART;TZID=Europe/Paris:20191107T100000
DTEND;TZID=Europe/Paris:20191107T170000
DTSTAMP:20260423T121207
CREATED:20180928T181416Z
LAST-MODIFIED:20190110T133414Z
UID:4177-1573120800-1573146000@www.prisma-rt.nl
SUMMARY:Scholingsdag Prisma-RT
DESCRIPTION:
URL:https://www.prisma-rt.nl/event/scholingsdag-prisma-rt/
LOCATION:Radiotherapie UMCUtrecht
END:VEVENT
BEGIN:VEVENT
DTSTART;TZID=Europe/Paris:20190919T103000
DTEND;TZID=Europe/Paris:20190919T153000
DTSTAMP:20260423T121207
CREATED:20180928T181104Z
LAST-MODIFIED:20180928T181104Z
UID:4168-1568889000-1568907000@www.prisma-rt.nl
SUMMARY:Expertteamvergadering
DESCRIPTION:
URL:https://www.prisma-rt.nl/event/expertteamvergadering-4/
LOCATION:Radiotherapie UMCUtrecht
END:VEVENT
BEGIN:VEVENT
DTSTART;VALUE=DATE:20190902
DTEND;VALUE=DATE:20190906
DTSTAMP:20260423T121207
CREATED:20181127T210907Z
LAST-MODIFIED:20190207T211334Z
UID:4271-1567382400-1567727999@www.prisma-rt.nl
SUMMARY:Radiation Oncology Safety Course
DESCRIPTION:Discipline of Radiation Therapy\nSchool of Medicine\nUniversity of Dublin\, Trinity College \nEndorsed by the ESTRO \nRADIATION ONCOLOGY SAFETY COURSE \nA four-day theoretical and practical course facilitating participants to identify factors contributing to near incidents and incidents\, the reporting\, analysis and management of incidents and reducing incident occurrence \nParticipants: Health Professionals with an interest or involvement in risk management in oncology\nCourse Dates: 2nd – 5th September\, 2019\nCourse Venue: Discipline of Radiation Therapy\, School of Medicine\, Trinity Centre for Health Sciences\, St. James’ Hospital\, Dublin 8\, Ireland \n\nDownloaden (PDF\, 138KB)
URL:https://www.prisma-rt.nl/event/radiation-oncology-safety-course-2/
LOCATION:Dublin\, Ierland
END:VEVENT
BEGIN:VEVENT
DTSTART;TZID=Europe/Paris:20190709T103000
DTEND;TZID=Europe/Paris:20190709T153000
DTSTAMP:20260423T121207
CREATED:20180928T180942Z
LAST-MODIFIED:20180928T180942Z
UID:4165-1562668200-1562686200@www.prisma-rt.nl
SUMMARY:Expertteamvergadering
DESCRIPTION:
URL:https://www.prisma-rt.nl/event/expertteamvergadering-3/
LOCATION:Verbeeten Instituut Den Bosch
END:VEVENT
BEGIN:VEVENT
DTSTART;TZID=Europe/Paris:20190425T103000
DTEND;TZID=Europe/Paris:20190425T153000
DTSTAMP:20260423T121208
CREATED:20180928T180850Z
LAST-MODIFIED:20180928T180850Z
UID:4162-1556188200-1556206200@www.prisma-rt.nl
SUMMARY:Expertteamvergadering
DESCRIPTION:
URL:https://www.prisma-rt.nl/event/expertteamvergadering-2/
LOCATION:Radiotherapie UMCUtrecht
END:VEVENT
END:VCALENDAR